BEGIN:VCALENDAR
VERSION:2.0
PRODID:-//Personal Solutions, Inc. - ECPv6.11.2.1//NONSGML v1.0//EN
CALSCALE:GREGORIAN
METHOD:PUBLISH
X-WR-CALNAME:Personal Solutions, Inc.
X-ORIGINAL-URL:https://personalsolutionsinc.org
X-WR-CALDESC:Events for Personal Solutions, Inc.
REFRESH-INTERVAL;VALUE=DURATION:PT1H
X-Robots-Tag:noindex
X-PUBLISHED-TTL:PT1H
BEGIN:VTIMEZONE
TZID:UTC
BEGIN:STANDARD
TZOFFSETFROM:+0000
TZOFFSETTO:+0000
TZNAME:UTC
DTSTART:20200101T000000
END:STANDARD
END:VTIMEZONE
BEGIN:VEVENT
DTSTART;TZID=UTC:20221012T200000
DTEND;TZID=UTC:20221012T210000
DTSTAMP:20260420T095252
CREATED:20220920T233316Z
LAST-MODIFIED:20220920T233316Z
UID:768-1665604800-1665608400@personalsolutionsinc.org
SUMMARY:Narcotics Anonymous Meeting
DESCRIPTION:
URL:https://personalsolutionsinc.org/event/narcotics-anonymous-meeting-4/
LOCATION:Bedford Presbyterian Church (Annex Bldg)\, 145 South Juliana Street\, Bedford\, PA\, 15522\, United States
END:VEVENT
BEGIN:VEVENT
DTSTART;TZID=UTC:20221011T190000
DTEND;TZID=UTC:20221011T200000
DTSTAMP:20260420T095252
CREATED:20220921T000811Z
LAST-MODIFIED:20220921T000811Z
UID:825-1665514800-1665518400@personalsolutionsinc.org
SUMMARY:Overeaters Anonymous Meeting
DESCRIPTION:
URL:https://personalsolutionsinc.org/event/overeaters-anonymous-meeting-4/
LOCATION:Personal Solutions\, Inc\, 145 Clark Building Road\, Bedford\, PA\, 15522\, United States
END:VEVENT
BEGIN:VEVENT
DTSTART;TZID=UTC:20221011T180000
DTEND;TZID=UTC:20221011T190000
DTSTAMP:20260420T095252
CREATED:20220921T194444Z
LAST-MODIFIED:20220921T194444Z
UID:843-1665511200-1665514800@personalsolutionsinc.org
SUMMARY:Parents of Addicted Loved Ones
DESCRIPTION:
URL:https://personalsolutionsinc.org/event/parents-of-addicted-loved-ones-3/
LOCATION:Bedford United Methodist Church\, 132 East John Street\, Bedford\, PA\, 15522\, United States
END:VEVENT
BEGIN:VEVENT
DTSTART;TZID=UTC:20221011T120000
DTEND;TZID=UTC:20221011T130000
DTSTAMP:20260420T095252
CREATED:20220920T235956Z
LAST-MODIFIED:20220920T235956Z
UID:800-1665489600-1665493200@personalsolutionsinc.org
SUMMARY:Alcoholics Anonymous Meeting
DESCRIPTION:
URL:https://personalsolutionsinc.org/event/alcoholics-anonymous-meeting-9/
LOCATION:Bedford Presbyterian Church (Annex Bldg)\, 115 East Penn Street\, Bedford\, PA\, 15522\, United States
END:VEVENT
BEGIN:VEVENT
DTSTART;TZID=UTC:20221008T190000
DTEND;TZID=UTC:20221008T200000
DTSTAMP:20260420T095252
CREATED:20220920T234814Z
LAST-MODIFIED:20220920T234814Z
UID:785-1665255600-1665259200@personalsolutionsinc.org
SUMMARY:Alcoholics Anonymous Meeting
DESCRIPTION:
URL:https://personalsolutionsinc.org/event/alcoholics-anonymous-meeting-3/
LOCATION:Church of the Bretheren\, 310 Donahue Manor Rd\, Bedford\, PA\, 15522\, United States
END:VEVENT
BEGIN:VEVENT
DTSTART;TZID=UTC:20221006T200000
DTEND;TZID=UTC:20221006T210000
DTSTAMP:20260420T095252
CREATED:20220921T000419Z
LAST-MODIFIED:20220921T000419Z
UID:811-1665086400-1665090000@personalsolutionsinc.org
SUMMARY:Alcoholics Anonymous Meeting
DESCRIPTION:
URL:https://personalsolutionsinc.org/event/alcoholics-anonymous-meeting-14/
LOCATION:Saint John’s Episcopal Church (Annex Bldg)\, 309 South Richard Street\, Bedford\, PA\, 15522\, United States
END:VEVENT
BEGIN:VEVENT
DTSTART;TZID=UTC:20221005T200000
DTEND;TZID=UTC:20221005T210000
DTSTAMP:20260420T095252
CREATED:20220920T233252Z
LAST-MODIFIED:20220920T233252Z
UID:766-1665000000-1665003600@personalsolutionsinc.org
SUMMARY:Narcotics Anonymous Meeting
DESCRIPTION:
URL:https://personalsolutionsinc.org/event/narcotics-anonymous-meeting-3/
LOCATION:Bedford Presbyterian Church (Annex Bldg)\, 145 South Juliana Street\, Bedford\, PA\, 15522\, United States
END:VEVENT
BEGIN:VEVENT
DTSTART;TZID=UTC:20221004T190000
DTEND;TZID=UTC:20221004T200000
DTSTAMP:20260420T095252
CREATED:20220921T000751Z
LAST-MODIFIED:20220921T000751Z
UID:823-1664910000-1664913600@personalsolutionsinc.org
SUMMARY:Overeaters Anonymous Meeting
DESCRIPTION:
URL:https://personalsolutionsinc.org/event/overeaters-anonymous-meeting-3/
LOCATION:Personal Solutions\, Inc\, 145 Clark Building Road\, Bedford\, PA\, 15522\, United States
END:VEVENT
BEGIN:VEVENT
DTSTART;TZID=UTC:20221004T180000
DTEND;TZID=UTC:20221004T190000
DTSTAMP:20260420T095252
CREATED:20220921T194423Z
LAST-MODIFIED:20220921T194423Z
UID:841-1664906400-1664910000@personalsolutionsinc.org
SUMMARY:Parents of Addicted Loved Ones
DESCRIPTION:
URL:https://personalsolutionsinc.org/event/parents-of-addicted-loved-ones-2/
LOCATION:Bedford United Methodist Church\, 132 East John Street\, Bedford\, PA\, 15522\, United States
END:VEVENT
BEGIN:VEVENT
DTSTART;TZID=UTC:20221004T120000
DTEND;TZID=UTC:20221004T130000
DTSTAMP:20260420T095252
CREATED:20220920T235931Z
LAST-MODIFIED:20220920T235931Z
UID:798-1664884800-1664888400@personalsolutionsinc.org
SUMMARY:Alcoholics Anonymous Meeting
DESCRIPTION:
URL:https://personalsolutionsinc.org/event/alcoholics-anonymous-meeting-8/
LOCATION:Bedford Presbyterian Church (Annex Bldg)\, 115 East Penn Street\, Bedford\, PA\, 15522\, United States
END:VEVENT
BEGIN:VEVENT
DTSTART;TZID=UTC:20221001T190000
DTEND;TZID=UTC:20221001T200000
DTSTAMP:20260420T095252
CREATED:20220920T234744Z
LAST-MODIFIED:20220920T234744Z
UID:783-1664650800-1664654400@personalsolutionsinc.org
SUMMARY:Alcoholics Anonymous Meeting
DESCRIPTION:
URL:https://personalsolutionsinc.org/event/alcoholics-anonymous-meeting/
LOCATION:Church of the Bretheren\, 310 Donahue Manor Rd\, Bedford\, PA\, 15522\, United States
END:VEVENT
BEGIN:VEVENT
DTSTART;TZID=UTC:20220929T200000
DTEND;TZID=UTC:20220929T210000
DTSTAMP:20260420T095252
CREATED:20220921T000355Z
LAST-MODIFIED:20220921T000355Z
UID:809-1664481600-1664485200@personalsolutionsinc.org
SUMMARY:Alcoholics Anonymous Meeting
DESCRIPTION:
URL:https://personalsolutionsinc.org/event/alcoholics-anonymous-meeting-13/
LOCATION:Saint John’s Episcopal Church (Annex Bldg)\, 309 South Richard Street\, Bedford\, PA\, 15522\, United States
END:VEVENT
BEGIN:VEVENT
DTSTART;TZID=UTC:20220928T200000
DTEND;TZID=UTC:20220928T210000
DTSTAMP:20260420T095252
CREATED:20220920T233219Z
LAST-MODIFIED:20220920T233219Z
UID:764-1664395200-1664398800@personalsolutionsinc.org
SUMMARY:Narcotics Anonymous Meeting
DESCRIPTION:
URL:https://personalsolutionsinc.org/event/narcotics-anonymous-meeting-2/
LOCATION:Bedford Presbyterian Church (Annex Bldg)\, 145 South Juliana Street\, Bedford\, PA\, 15522\, United States
END:VEVENT
BEGIN:VEVENT
DTSTART;TZID=UTC:20220927T190000
DTEND;TZID=UTC:20220927T200000
DTSTAMP:20260420T095252
CREATED:20220921T000729Z
LAST-MODIFIED:20220921T000729Z
UID:821-1664305200-1664308800@personalsolutionsinc.org
SUMMARY:Overeaters Anonymous Meeting
DESCRIPTION:
URL:https://personalsolutionsinc.org/event/overeaters-anonymous-meeting-2/
LOCATION:Personal Solutions\, Inc\, 145 Clark Building Road\, Bedford\, PA\, 15522\, United States
END:VEVENT
BEGIN:VEVENT
DTSTART;TZID=UTC:20220927T180000
DTEND;TZID=UTC:20220927T190000
DTSTAMP:20260420T095252
CREATED:20220921T193614Z
LAST-MODIFIED:20220921T193615Z
UID:836-1664301600-1664305200@personalsolutionsinc.org
SUMMARY:Parents of Addicted Loved Ones
DESCRIPTION:
URL:https://personalsolutionsinc.org/event/parents-of-addicted-loved-ones/
LOCATION:Bedford United Methodist Church\, 132 East John Street\, Bedford\, PA\, 15522\, United States
END:VEVENT
BEGIN:VEVENT
DTSTART;TZID=UTC:20220927T120000
DTEND;TZID=UTC:20220927T130000
DTSTAMP:20260420T095252
CREATED:20220920T235850Z
LAST-MODIFIED:20220920T235850Z
UID:796-1664280000-1664283600@personalsolutionsinc.org
SUMMARY:Alcoholics Anonymous Meeting
DESCRIPTION:
URL:https://personalsolutionsinc.org/event/alcoholics-anonymous-meeting-7/
LOCATION:Bedford Presbyterian Church (Annex Bldg)\, 115 East Penn Street\, Bedford\, PA\, 15522\, United States
END:VEVENT
BEGIN:VEVENT
DTSTART;TZID=UTC:20220924T190000
DTEND;TZID=UTC:20220924T200000
DTSTAMP:20260420T095252
CREATED:20220920T234549Z
LAST-MODIFIED:20220920T234549Z
UID:780-1664046000-1664049600@personalsolutionsinc.org
SUMMARY:Alcoholics Anonymous Meeting
DESCRIPTION:
URL:https://personalsolutionsinc.org/event/alcoholics-anonymous-meeting-2/
LOCATION:Church of the Bretheren\, 310 Donahue Manor Rd\, Bedford\, PA\, 15522\, United States
END:VEVENT
BEGIN:VEVENT
DTSTART;TZID=UTC:20220922T200000
DTEND;TZID=UTC:20220922T210000
DTSTAMP:20260420T095252
CREATED:20220921T000331Z
LAST-MODIFIED:20220921T000331Z
UID:807-1663876800-1663880400@personalsolutionsinc.org
SUMMARY:Alcoholics Anonymous Meeting
DESCRIPTION:
URL:https://personalsolutionsinc.org/event/alcoholics-anonymous-meeting-12/
LOCATION:Saint John’s Episcopal Church (Annex Bldg)\, 309 South Richard Street\, Bedford\, PA\, 15522\, United States
END:VEVENT
BEGIN:VEVENT
DTSTART;TZID=UTC:20220921T200000
DTEND;TZID=UTC:20220921T210000
DTSTAMP:20260420T095252
CREATED:20220920T232417Z
LAST-MODIFIED:20220920T233152Z
UID:758-1663790400-1663794000@personalsolutionsinc.org
SUMMARY:Narcotics Anonymous Meeting
DESCRIPTION:
URL:https://personalsolutionsinc.org/event/narcotics-anonymous-meeting/
LOCATION:Bedford Presbyterian Church (Annex Bldg)\, 145 South Juliana Street\, Bedford\, PA\, 15522\, United States
END:VEVENT
BEGIN:VEVENT
DTSTART;TZID=UTC:20220920T190000
DTEND;TZID=UTC:20220920T200000
DTSTAMP:20260420T095252
CREATED:20220921T000701Z
LAST-MODIFIED:20220921T000701Z
UID:819-1663700400-1663704000@personalsolutionsinc.org
SUMMARY:Overeaters Anonymous Meeting
DESCRIPTION:
URL:https://personalsolutionsinc.org/event/overeaters-anonymous-meeting/
LOCATION:Personal Solutions\, Inc\, 145 Clark Building Road\, Bedford\, PA\, 15522\, United States
END:VEVENT
BEGIN:VEVENT
DTSTART;TZID=UTC:20200930T200000
DTEND;TZID=UTC:20200930T210000
DTSTAMP:20260420T095252
CREATED:20200903T192339Z
LAST-MODIFIED:20200903T192339Z
UID:720-1601496000-1601499600@personalsolutionsinc.org
SUMMARY:Narcotics Anonymous (NA)
DESCRIPTION:Narcotics Anonymous (NA)
URL:https://personalsolutionsinc.org/event/narcotics-anonymous-na-12/
LOCATION:Bedford Presbyterian Church (Annex Bldg)\, 145 South Juliana Street\, Bedford\, PA\, 15522\, United States
END:VEVENT
BEGIN:VEVENT
DTSTART;TZID=UTC:20200929T190000
DTEND;TZID=UTC:20200929T200000
DTSTAMP:20260420T095252
CREATED:20200903T190022Z
LAST-MODIFIED:20200903T190022Z
UID:695-1601406000-1601409600@personalsolutionsinc.org
SUMMARY:Overeaters Anonymous (OA)
DESCRIPTION:Overeaters Anonymous (OA)
URL:https://personalsolutionsinc.org/event/overeaters-anonymous-oa-4/
LOCATION:Personal Solutions\, Inc\, 145 Clark Building Road\, Bedford\, PA\, 15522\, United States
END:VEVENT
BEGIN:VEVENT
DTSTART;TZID=UTC:20200929T120000
DTEND;TZID=UTC:20200929T130000
DTSTAMP:20260420T095252
CREATED:20200903T190337Z
LAST-MODIFIED:20200903T191134Z
UID:702-1601380800-1601384400@personalsolutionsinc.org
SUMMARY:Narcotics Anonymous (NA)
DESCRIPTION:Narcotics Anonymous (NA)
URL:https://personalsolutionsinc.org/event/narcotics-anonymous-na-4/
LOCATION:Personal Solutions\, Inc\, 145 Clark Building Road\, Bedford\, PA\, 15522\, United States
END:VEVENT
BEGIN:VEVENT
DTSTART;TZID=UTC:20200925T200000
DTEND;TZID=UTC:20200925T210000
DTSTAMP:20260420T095252
CREATED:20200903T192103Z
LAST-MODIFIED:20200903T192103Z
UID:718-1601064000-1601067600@personalsolutionsinc.org
SUMMARY:Narcotics Anonymous (NA)
DESCRIPTION:Narcotics Anonymous (NA)
URL:https://personalsolutionsinc.org/event/narcotics-anonymous-na-11/
LOCATION:Bedford Presbyterian Church (Annex Bldg)\, 145 South Juliana Street\, Bedford\, PA\, 15522\, United States
END:VEVENT
BEGIN:VEVENT
DTSTART;TZID=UTC:20200923T200000
DTEND;TZID=UTC:20200923T210000
DTSTAMP:20260420T095252
CREATED:20200903T191914Z
LAST-MODIFIED:20200903T191914Z
UID:716-1600891200-1600894800@personalsolutionsinc.org
SUMMARY:Narcotics Anonymous (NA)
DESCRIPTION:Narcotics Anonymous (NA)
URL:https://personalsolutionsinc.org/event/narcotics-anonymous-na-10/
LOCATION:Bedford Presbyterian Church (Annex Bldg)\, 145 South Juliana Street\, Bedford\, PA\, 15522\, United States
END:VEVENT
BEGIN:VEVENT
DTSTART;TZID=UTC:20200922T190000
DTEND;TZID=UTC:20200922T200000
DTSTAMP:20260420T095252
CREATED:20200903T185944Z
LAST-MODIFIED:20200903T185944Z
UID:693-1600801200-1600804800@personalsolutionsinc.org
SUMMARY:Overeaters Anonymous (OA)
DESCRIPTION:Overeaters Anonymous (OA)
URL:https://personalsolutionsinc.org/event/overeaters-anonymous-oa-3/
LOCATION:Personal Solutions\, Inc\, 145 Clark Building Road\, Bedford\, PA\, 15522\, United States
END:VEVENT
BEGIN:VEVENT
DTSTART;TZID=UTC:20200922T120000
DTEND;TZID=UTC:20200922T130000
DTSTAMP:20260420T095252
CREATED:20200903T190249Z
LAST-MODIFIED:20200903T190249Z
UID:700-1600776000-1600779600@personalsolutionsinc.org
SUMMARY:Narcotics Anonymous (NA)
DESCRIPTION:Narcotics Anonymous (NA)
URL:https://personalsolutionsinc.org/event/narcotics-anonymous-na-3/
LOCATION:Personal Solutions\, Inc\, 145 Clark Building Road\, Bedford\, PA\, 15522\, United States
END:VEVENT
BEGIN:VEVENT
DTSTART;TZID=UTC:20200918T200000
DTEND;TZID=UTC:20200918T210000
DTSTAMP:20260420T095252
CREATED:20200903T191643Z
LAST-MODIFIED:20200903T191643Z
UID:714-1600459200-1600462800@personalsolutionsinc.org
SUMMARY:Narcotics Anonymous (NA)
DESCRIPTION:Narcotics Anonymous (NA)
URL:https://personalsolutionsinc.org/event/narcotics-anonymous-na-9/
LOCATION:Bedford Presbyterian Church (Annex Bldg)\, 145 South Juliana Street\, Bedford\, PA\, 15522\, United States
END:VEVENT
BEGIN:VEVENT
DTSTART;TZID=UTC:20200916T200000
DTEND;TZID=UTC:20200916T210000
DTSTAMP:20260420T095252
CREATED:20200903T191537Z
LAST-MODIFIED:20200903T191537Z
UID:712-1600286400-1600290000@personalsolutionsinc.org
SUMMARY:Narcotics Anonymous (NA)
DESCRIPTION:Narcotics Anonymous (NA)
URL:https://personalsolutionsinc.org/event/narcotics-anonymous-na-8/
LOCATION:Bedford Presbyterian Church (Annex Bldg)\, 145 South Juliana Street\, Bedford\, PA\, 15522\, United States
END:VEVENT
BEGIN:VEVENT
DTSTART;TZID=UTC:20200915T190000
DTEND;TZID=UTC:20200915T200000
DTSTAMP:20260420T095252
CREATED:20200903T185857Z
LAST-MODIFIED:20200903T185857Z
UID:691-1600196400-1600200000@personalsolutionsinc.org
SUMMARY:Overeaters Anonymous (OA)
DESCRIPTION:Overeaters Anonymous (OA)
URL:https://personalsolutionsinc.org/event/overeaters-anonymous-oa-2/
LOCATION:PA
END:VEVENT
END:VCALENDAR