BEGIN:VCALENDAR
VERSION:2.0
PRODID:-//Personal Solutions, Inc. - ECPv6.11.2.1//NONSGML v1.0//EN
CALSCALE:GREGORIAN
METHOD:PUBLISH
X-ORIGINAL-URL:https://personalsolutionsinc.org
X-WR-CALDESC:Events for Personal Solutions, Inc.
REFRESH-INTERVAL;VALUE=DURATION:PT1H
X-Robots-Tag:noindex
X-PUBLISHED-TTL:PT1H
BEGIN:VTIMEZONE
TZID:UTC
BEGIN:STANDARD
TZOFFSETFROM:+0000
TZOFFSETTO:+0000
TZNAME:UTC
DTSTART:20220101T000000
END:STANDARD
END:VTIMEZONE
BEGIN:VEVENT
DTSTART;TZID=UTC:20221130T200000
DTEND;TZID=UTC:20221130T210000
DTSTAMP:20260419T104914
CREATED:20221025T224629Z
LAST-MODIFIED:20221025T224629Z
UID:861-1669838400-1669842000@personalsolutionsinc.org
SUMMARY:Narcotics Anonymous Meeting
DESCRIPTION:
URL:https://personalsolutionsinc.org/event/narcotics-anonymous-meeting-11/
LOCATION:Bedford Presbyterian Church (Annex Bldg)\, 115 East Penn Street\, Bedford\, PA\, 15522\, United States
END:VEVENT
END:VCALENDAR