BEGIN:VCALENDAR
VERSION:2.0
PRODID:-//Personal Solutions, Inc. - ECPv6.11.2.1//NONSGML v1.0//EN
CALSCALE:GREGORIAN
METHOD:PUBLISH
X-WR-CALNAME:Personal Solutions, Inc.
X-ORIGINAL-URL:https://personalsolutionsinc.org
X-WR-CALDESC:Events for Personal Solutions, Inc.
REFRESH-INTERVAL;VALUE=DURATION:PT1H
X-Robots-Tag:noindex
X-PUBLISHED-TTL:PT1H
BEGIN:VTIMEZONE
TZID:UTC
BEGIN:STANDARD
TZOFFSETFROM:+0000
TZOFFSETTO:+0000
TZNAME:UTC
DTSTART:20220101T000000
END:STANDARD
END:VTIMEZONE
BEGIN:VEVENT
DTSTART;TZID=UTC:20221122T120000
DTEND;TZID=UTC:20221122T130000
DTSTAMP:20260421T223348
CREATED:20221025T224928Z
LAST-MODIFIED:20221025T224928Z
UID:871-1669118400-1669122000@personalsolutionsinc.org
SUMMARY:Alcoholics Anonymous Meeting
DESCRIPTION:
URL:https://personalsolutionsinc.org/event/alcoholics-anonymous-meeting-21/
LOCATION:Bedford Presbyterian Church (Annex Bldg)\, 115 East Penn Street\, Bedford\, PA\, 15522\, United States
END:VEVENT
BEGIN:VEVENT
DTSTART;TZID=UTC:20221122T180000
DTEND;TZID=UTC:20221122T190000
DTSTAMP:20260421T223348
CREATED:20221025T231846Z
LAST-MODIFIED:20221025T231846Z
UID:897-1669140000-1669143600@personalsolutionsinc.org
SUMMARY:Parents of Addicted Loved Ones
DESCRIPTION:
URL:https://personalsolutionsinc.org/event/parents-of-addicted-loved-ones-9/
LOCATION:Bedford United Methodist Church\, 132 East John Street\, Bedford\, PA\, 15522\, United States
END:VEVENT
BEGIN:VEVENT
DTSTART;TZID=UTC:20221122T190000
DTEND;TZID=UTC:20221122T200000
DTSTAMP:20260421T223348
CREATED:20221025T232059Z
LAST-MODIFIED:20221025T232059Z
UID:907-1669143600-1669147200@personalsolutionsinc.org
SUMMARY:Overeaters Anonymous Meeting
DESCRIPTION:
URL:https://personalsolutionsinc.org/event/overeaters-anonymous-meeting-10/
LOCATION:Personal Solutions\, Inc\, 145 Clark Building Road\, Bedford\, PA\, 15522\, United States
END:VEVENT
END:VCALENDAR