BEGIN:VCALENDAR
VERSION:2.0
PRODID:-//Personal Solutions, Inc. - ECPv6.11.2.1//NONSGML v1.0//EN
CALSCALE:GREGORIAN
METHOD:PUBLISH
X-ORIGINAL-URL:https://personalsolutionsinc.org
X-WR-CALDESC:Events for Personal Solutions, Inc.
REFRESH-INTERVAL;VALUE=DURATION:PT1H
X-Robots-Tag:noindex
X-PUBLISHED-TTL:PT1H
BEGIN:VTIMEZONE
TZID:UTC
BEGIN:STANDARD
TZOFFSETFROM:+0000
TZOFFSETTO:+0000
TZNAME:UTC
DTSTART:20220101T000000
END:STANDARD
END:VTIMEZONE
BEGIN:VEVENT
DTSTART;TZID=UTC:20221013T200000
DTEND;TZID=UTC:20221013T210000
DTSTAMP:20260420T063347
CREATED:20220921T000443Z
LAST-MODIFIED:20220921T000443Z
UID:813-1665691200-1665694800@personalsolutionsinc.org
SUMMARY:Alcoholics Anonymous Meeting
DESCRIPTION:
URL:https://personalsolutionsinc.org/event/alcoholics-anonymous-meeting-15/
LOCATION:Saint John’s Episcopal Church (Annex Bldg)\, 309 South Richard Street\, Bedford\, PA\, 15522\, United States
END:VEVENT
END:VCALENDAR