BEGIN:VCALENDAR
VERSION:2.0
PRODID:-//Personal Solutions, Inc. - ECPv6.11.2.1//NONSGML v1.0//EN
CALSCALE:GREGORIAN
METHOD:PUBLISH
X-ORIGINAL-URL:https://personalsolutionsinc.org
X-WR-CALDESC:Events for Personal Solutions, Inc.
REFRESH-INTERVAL;VALUE=DURATION:PT1H
X-Robots-Tag:noindex
X-PUBLISHED-TTL:PT1H
BEGIN:VTIMEZONE
TZID:UTC
BEGIN:STANDARD
TZOFFSETFROM:+0000
TZOFFSETTO:+0000
TZNAME:UTC
DTSTART:20220101T000000
END:STANDARD
END:VTIMEZONE
BEGIN:VEVENT
DTSTART;TZID=UTC:20221008T190000
DTEND;TZID=UTC:20221008T200000
DTSTAMP:20260420T063350
CREATED:20220920T234814Z
LAST-MODIFIED:20220920T234814Z
UID:785-1665255600-1665259200@personalsolutionsinc.org
SUMMARY:Alcoholics Anonymous Meeting
DESCRIPTION:
URL:https://personalsolutionsinc.org/event/alcoholics-anonymous-meeting-3/
LOCATION:Church of the Bretheren\, 310 Donahue Manor Rd\, Bedford\, PA\, 15522\, United States
END:VEVENT
END:VCALENDAR