BEGIN:VCALENDAR
VERSION:2.0
PRODID:-//Personal Solutions, Inc. - ECPv6.11.2.1//NONSGML v1.0//EN
CALSCALE:GREGORIAN
METHOD:PUBLISH
X-WR-CALNAME:Personal Solutions, Inc.
X-ORIGINAL-URL:https://personalsolutionsinc.org
X-WR-CALDESC:Events for Personal Solutions, Inc.
REFRESH-INTERVAL;VALUE=DURATION:PT1H
X-Robots-Tag:noindex
X-PUBLISHED-TTL:PT1H
BEGIN:VTIMEZONE
TZID:UTC
BEGIN:STANDARD
TZOFFSETFROM:+0000
TZOFFSETTO:+0000
TZNAME:UTC
DTSTART:20200101T000000
END:STANDARD
END:VTIMEZONE
BEGIN:VEVENT
DTSTART;TZID=UTC:20200908T120000
DTEND;TZID=UTC:20200908T130000
DTSTAMP:20260422T182657
CREATED:20200903T185630Z
LAST-MODIFIED:20200903T185630Z
UID:687-1599566400-1599570000@personalsolutionsinc.org
SUMMARY:Narcotics Anonymous (NA)
DESCRIPTION:Narcotics Anonymous (NA)
URL:https://personalsolutionsinc.org/event/narcotics-anonymous-na/
LOCATION:Personal Solutions\, Inc\, 145 Clark Building Road\, Bedford\, PA\, 15522\, United States
END:VEVENT
BEGIN:VEVENT
DTSTART;TZID=UTC:20200908T190000
DTEND;TZID=UTC:20200908T200000
DTSTAMP:20260422T182657
CREATED:20200903T185505Z
LAST-MODIFIED:20200903T185505Z
UID:684-1599591600-1599595200@personalsolutionsinc.org
SUMMARY:Overeaters Anonymous
DESCRIPTION:Overeaters Anonymous
URL:https://personalsolutionsinc.org/event/overeaters-anonymous/
LOCATION:Personal Solutions\, Inc\, 145 Clark Building Road\, Bedford\, PA\, 15522\, United States
END:VEVENT
END:VCALENDAR