BEGIN:VCALENDAR
VERSION:2.0
PRODID:-//Personal Solutions, Inc. - ECPv6.11.2.1//NONSGML v1.0//EN
CALSCALE:GREGORIAN
METHOD:PUBLISH
X-WR-CALNAME:Personal Solutions, Inc.
X-ORIGINAL-URL:https://personalsolutionsinc.org
X-WR-CALDESC:Events for Personal Solutions, Inc.
REFRESH-INTERVAL;VALUE=DURATION:PT1H
X-Robots-Tag:noindex
X-PUBLISHED-TTL:PT1H
BEGIN:VTIMEZONE
TZID:UTC
BEGIN:STANDARD
TZOFFSETFROM:+0000
TZOFFSETTO:+0000
TZNAME:UTC
DTSTART:20200101T000000
END:STANDARD
END:VTIMEZONE
BEGIN:VEVENT
DTSTART;TZID=UTC:20200327T200000
DTEND;TZID=UTC:20200327T210000
DTSTAMP:20260423T191057
CREATED:20200219T002411Z
LAST-MODIFIED:20200219T002411Z
UID:677-1585339200-1585342800@personalsolutionsinc.org
SUMMARY:NA Meeting
DESCRIPTION:NA Meeting
URL:https://personalsolutionsinc.org/event/na-meeting-72/
LOCATION:Bedford Presbyterian Church (Annex Bldg)\, 145 South Juliana Street\, Bedford\, PA\, 15522\, United States
END:VEVENT
END:VCALENDAR