BEGIN:VCALENDAR
VERSION:2.0
PRODID:-//Personal Solutions, Inc. - ECPv6.11.2.1//NONSGML v1.0//EN
CALSCALE:GREGORIAN
METHOD:PUBLISH
X-ORIGINAL-URL:https://personalsolutionsinc.org
X-WR-CALDESC:Events for Personal Solutions, Inc.
REFRESH-INTERVAL;VALUE=DURATION:PT1H
X-Robots-Tag:noindex
X-PUBLISHED-TTL:PT1H
BEGIN:VTIMEZONE
TZID:UTC
BEGIN:STANDARD
TZOFFSETFROM:+0000
TZOFFSETTO:+0000
TZNAME:UTC
DTSTART:20200101T000000
END:STANDARD
END:VTIMEZONE
BEGIN:VEVENT
DTSTART;TZID=UTC:20200208T200000
DTEND;TZID=UTC:20200208T210000
DTSTAMP:20260423T232205
CREATED:20200114T231010Z
LAST-MODIFIED:20200114T231010Z
UID:531-1581192000-1581195600@personalsolutionsinc.org
SUMMARY:NA Meeting
DESCRIPTION:NA Meeting
URL:https://personalsolutionsinc.org/event/na-meeting-30/
LOCATION:Personal Solutions\, Inc\, 145 Clark Building Road\, Bedford\, PA\, 15522\, United States
END:VEVENT
BEGIN:VEVENT
DTSTART;TZID=UTC:20200208T200000
DTEND;TZID=UTC:20200208T210000
DTSTAMP:20260423T232205
CREATED:20200114T231049Z
LAST-MODIFIED:20200114T231049Z
UID:533-1581192000-1581195600@personalsolutionsinc.org
SUMMARY:AA Meeting
DESCRIPTION:AA Meeting
URL:https://personalsolutionsinc.org/event/aa-meeting-28/
LOCATION:Bedford Presbyterian Church (Annex Bldg)\, 145 South Juliana Street\, Bedford\, PA\, 15522\, United States
END:VEVENT
END:VCALENDAR