BEGIN:VCALENDAR
VERSION:2.0
PRODID:-//Personal Solutions, Inc. - ECPv6.11.2.1//NONSGML v1.0//EN
CALSCALE:GREGORIAN
METHOD:PUBLISH
X-ORIGINAL-URL:https://personalsolutionsinc.org
X-WR-CALDESC:Events for Personal Solutions, Inc.
REFRESH-INTERVAL;VALUE=DURATION:PT1H
X-Robots-Tag:noindex
X-PUBLISHED-TTL:PT1H
BEGIN:VTIMEZONE
TZID:UTC
BEGIN:STANDARD
TZOFFSETFROM:+0000
TZOFFSETTO:+0000
TZNAME:UTC
DTSTART:20200101T000000
END:STANDARD
END:VTIMEZONE
BEGIN:VEVENT
DTSTART;TZID=UTC:20200123T120000
DTEND;TZID=UTC:20200123T130000
DTSTAMP:20260424T015944
CREATED:20191220T230524Z
LAST-MODIFIED:20191220T230524Z
UID:508-1579780800-1579784400@personalsolutionsinc.org
SUMMARY:NA Meeting
DESCRIPTION:NA Meeting
URL:https://personalsolutionsinc.org/event/na-meeting-23/
LOCATION:North Spring Christian Church\, 37 North Spring Street\, Everett\, PA\, 15537\, United States
END:VEVENT
BEGIN:VEVENT
DTSTART;TZID=UTC:20200123T200000
DTEND;TZID=UTC:20200123T210000
DTSTAMP:20260424T015944
CREATED:20191220T222217Z
LAST-MODIFIED:20191220T222217Z
UID:484-1579809600-1579813200@personalsolutionsinc.org
SUMMARY:AA Meeting
DESCRIPTION:AA Meeting
URL:https://personalsolutionsinc.org/event/aa-meeting-19/
LOCATION:Bedford Presbyterian Church (Annex Bldg)\, 145 South Juliana Street\, Bedford\, PA\, 15522\, United States
END:VEVENT
END:VCALENDAR