BEGIN:VCALENDAR
VERSION:2.0
PRODID:-//Personal Solutions, Inc. - ECPv6.11.2.1//NONSGML v1.0//EN
CALSCALE:GREGORIAN
METHOD:PUBLISH
X-WR-CALNAME:Personal Solutions, Inc.
X-ORIGINAL-URL:https://personalsolutionsinc.org
X-WR-CALDESC:Events for Personal Solutions, Inc.
REFRESH-INTERVAL;VALUE=DURATION:PT1H
X-Robots-Tag:noindex
X-PUBLISHED-TTL:PT1H
BEGIN:VTIMEZONE
TZID:UTC
BEGIN:STANDARD
TZOFFSETFROM:+0000
TZOFFSETTO:+0000
TZNAME:UTC
DTSTART:20200101T000000
END:STANDARD
END:VTIMEZONE
BEGIN:VEVENT
DTSTART;TZID=UTC:20200121T120000
DTEND;TZID=UTC:20200121T130000
DTSTAMP:20260424T031853
CREATED:20191220T221910Z
LAST-MODIFIED:20191220T221910Z
UID:474-1579608000-1579611600@personalsolutionsinc.org
SUMMARY:NA Meeting
DESCRIPTION:NA Meeting-Vision of Hope
URL:https://personalsolutionsinc.org/event/na-meeting-13/
LOCATION:Personal Solutions\, Inc\, 145 Clark Building Road\, Bedford\, PA\, 15522\, United States
END:VEVENT
BEGIN:VEVENT
DTSTART;TZID=UTC:20200121T120000
DTEND;TZID=UTC:20200121T130000
DTSTAMP:20260424T031853
CREATED:20191220T221944Z
LAST-MODIFIED:20191220T221944Z
UID:476-1579608000-1579611600@personalsolutionsinc.org
SUMMARY:AA Meeting
DESCRIPTION:AA Meeting
URL:https://personalsolutionsinc.org/event/aa-meeting-17/
LOCATION:Bedford Presbyterian Church (Annex Bldg)\, 145 South Juliana Street\, Bedford\, PA\, 15522\, United States
END:VEVENT
END:VCALENDAR