BEGIN:VCALENDAR
VERSION:2.0
PRODID:-//Personal Solutions, Inc. - ECPv6.11.2.1//NONSGML v1.0//EN
CALSCALE:GREGORIAN
METHOD:PUBLISH
X-ORIGINAL-URL:https://personalsolutionsinc.org
X-WR-CALDESC:Events for Personal Solutions, Inc.
REFRESH-INTERVAL;VALUE=DURATION:PT1H
X-Robots-Tag:noindex
X-PUBLISHED-TTL:PT1H
BEGIN:VTIMEZONE
TZID:UTC
BEGIN:STANDARD
TZOFFSETFROM:+0000
TZOFFSETTO:+0000
TZNAME:UTC
DTSTART:20200101T000000
END:STANDARD
END:VTIMEZONE
BEGIN:VEVENT
DTSTART;TZID=UTC:20200108T190000
DTEND;TZID=UTC:20200108T200000
DTSTAMP:20260424T015949
CREATED:20191220T194411Z
LAST-MODIFIED:20191220T194411Z
UID:457-1578510000-1578513600@personalsolutionsinc.org
SUMMARY:AA Meeting
DESCRIPTION:AA Meeting
URL:https://personalsolutionsinc.org/event/aa-meeting-10/
LOCATION:Dunnings Creek Friends Meeting House\, 295 Quaker Church Road\, Fishertown\, PA\, 15539\, United States
END:VEVENT
BEGIN:VEVENT
DTSTART;TZID=UTC:20200108T200000
DTEND;TZID=UTC:20200108T210000
DTSTAMP:20260424T015949
CREATED:20191220T192843Z
LAST-MODIFIED:20191220T192843Z
UID:417-1578513600-1578517200@personalsolutionsinc.org
SUMMARY:NA Meeting
DESCRIPTION:NA Meeting-NA Way
URL:https://personalsolutionsinc.org/event/na-meeting-2/
LOCATION:Bedford Presbyterian Church (Annex Bldg)\, 145 South Juliana Street\, Bedford\, PA\, 15522\, United States
END:VEVENT
END:VCALENDAR