BEGIN:VCALENDAR
VERSION:2.0
PRODID:-//Personal Solutions, Inc. - ECPv6.11.2.1//NONSGML v1.0//EN
CALSCALE:GREGORIAN
METHOD:PUBLISH
X-WR-CALNAME:Personal Solutions, Inc.
X-ORIGINAL-URL:https://personalsolutionsinc.org
X-WR-CALDESC:Events for Personal Solutions, Inc.
REFRESH-INTERVAL;VALUE=DURATION:PT1H
X-Robots-Tag:noindex
X-PUBLISHED-TTL:PT1H
BEGIN:VTIMEZONE
TZID:UTC
BEGIN:STANDARD
TZOFFSETFROM:+0000
TZOFFSETTO:+0000
TZNAME:UTC
DTSTART:20190101T000000
END:STANDARD
END:VTIMEZONE
BEGIN:VEVENT
DTSTART;TZID=UTC:20191220T120000
DTEND;TZID=UTC:20191220T130000
DTSTAMP:20260424T031449
CREATED:20191220T222137Z
LAST-MODIFIED:20191220T222137Z
UID:482-1576843200-1576846800@personalsolutionsinc.org
SUMMARY:NA Meeting
DESCRIPTION:NA Meeting
URL:https://personalsolutionsinc.org/event/na-meeting-15/
LOCATION:North Spring Christian Church\, 37 North Spring Street\, Everett\, PA\, 15537\, United States
END:VEVENT
BEGIN:VEVENT
DTSTART;TZID=UTC:20191220T200000
DTEND;TZID=UTC:20191220T210000
DTSTAMP:20260424T031449
CREATED:20191220T192207Z
LAST-MODIFIED:20191220T192613Z
UID:393-1576872000-1576875600@personalsolutionsinc.org
SUMMARY:NA Meeting
DESCRIPTION:NA Meeting-We Do Recover
URL:https://personalsolutionsinc.org/event/393/
LOCATION:Bedford Presbyterian Church (Annex Bldg)\, 145 South Juliana Street\, Bedford\, PA\, 15522\, United States
END:VEVENT
END:VCALENDAR